BEGIN:VCALENDAR
VERSION:2.0
PRODID:spatie/icalendar-generator
DESCRIPTION:Veranstaltungen von Katholische Familienbildungsstätte Neunkir
 chen
X-WR-CALDESC:Veranstaltungen von Katholische Familienbildungsstätte Neunki
 rchen
REFRESH-INTERVAL;VALUE=DURATION:PT1440M
X-PUBLISHED-TTL:PT1440M
BEGIN:VTIMEZONE
TZID:Europe/Berlin
BEGIN:DAYLIGHT
DTSTART:20250330T020000Z
TZOFFSETFROM:+0100
TZOFFSETTO:+0200
END:DAYLIGHT
BEGIN:STANDARD
DTSTART:20251026T030000Z
TZOFFSETFROM:+0200
TZOFFSETTO:+0100
END:STANDARD
BEGIN:DAYLIGHT
DTSTART:20260329T020000Z
TZOFFSETFROM:+0100
TZOFFSETTO:+0200
END:DAYLIGHT
END:VTIMEZONE
BEGIN:VTIMEZONE
TZID:UTC
BEGIN:STANDARD
DTSTART:20250729T102307Z
TZOFFSETFROM:+0000
TZOFFSETTO:+0000
END:STANDARD
END:VTIMEZONE
BEGIN:VEVENT
UID:2420-165
DTSTAMP:20260425T102307Z
SUMMARY:Zwangssterilisationen und „Euthanasie“-Morde im Saarland: Forsc
 hungsstand und Folgen bis heute\, Vortrag mit Prof. Dr. phil. habil. Werne
 r Brill
LOCATION:Katholische Familienbildungsstätte Neunkirchen e.V. Wellesweilers
 traße 100  Neunkirchen  66538
ORGANIZER;CN=Anne Schmidt:MAILTO:kathfbs@aol.com
DTSTART;TZID=Europe/Berlin:20251114T100000
DTEND;TZID=Europe/Berlin:20251114T120000
X-ALT-DESC;FMTTYPE=TEXT/HTML:Menschen mit Behinderung\, Patientinnen psychi
 atrischer Anstalten\, Heimbewohner und andere wurden auch im Saarland Opfe
 r von Zwangssterilisationen und Morden im Rahmen der „Euthanasie“. Der
  Vortag erläutert die Hintergründe\, benennt Opfer und Täter und stellt
  den aktuellen Stand der Forschung dar. Gleichzeitig wird aber auch der ne
 ue Umgang mit den Opfern im Rahmen einer Liste seitens der&amp;hellip\;
CATEGORIES:Erwachsene &amp; Senioren,  General
URL;VALUE=URI:https://fbs-nk.de/mc-events/zwangssterilisationen-und-euthana
 sie-morde-im-saarland-forschungsstand-und-folgen-bis-heute-vortrag-mit-pro
 f-dr-phil-habil-werner-brill/
METHOD:PUBLISH
END:VEVENT
END:VCALENDAR