BEGIN:VCALENDAR
VERSION:2.0
PRODID:spatie/icalendar-generator
DESCRIPTION:Veranstaltungen von Katholische Familienbildungsstätte Neunkir
 chen
X-WR-CALDESC:Veranstaltungen von Katholische Familienbildungsstätte Neunki
 rchen
REFRESH-INTERVAL;VALUE=DURATION:PT1440M
X-PUBLISHED-TTL:PT1440M
BEGIN:VTIMEZONE
TZID:Europe/Berlin
BEGIN:DAYLIGHT
DTSTART:20250330T020000Z
TZOFFSETFROM:+0100
TZOFFSETTO:+0200
END:DAYLIGHT
BEGIN:STANDARD
DTSTART:20251026T030000Z
TZOFFSETFROM:+0200
TZOFFSETTO:+0100
END:STANDARD
BEGIN:DAYLIGHT
DTSTART:20260329T020000Z
TZOFFSETFROM:+0100
TZOFFSETTO:+0200
END:DAYLIGHT
END:VTIMEZONE
BEGIN:VTIMEZONE
TZID:UTC
BEGIN:STANDARD
DTSTART:20250729T014823Z
TZOFFSETFROM:+0000
TZOFFSETTO:+0000
END:STANDARD
END:VTIMEZONE
BEGIN:VEVENT
UID:2958-241
DTSTAMP:20260425T014823Z
SUMMARY:Symbole und Chiffren der rechten Szene
LOCATION:Katholische Familienbildungsstätte Neunkirchen e.V. Wellesweilers
 traße 100  Neunkirchen  66538
ORGANIZER;CN=Anne Schmidt:MAILTO:kathfbs@aol.com
DTSTART;TZID=Europe/Berlin:20251028T180000
DTEND;TZID=Europe/Berlin:20251028T193000
X-ALT-DESC;FMTTYPE=TEXT/HTML:Kai Schwedt beobachtet die rechte Szene schon 
 seit langem. Heute Abend erläutert er ihre verschlüsselte Außendarstell
 ung\, mit der Botschaften übermittelt und Identifikationsmuster geschaffe
 n werden. Gebühr: 3 Euro Aus organisatorischen Gründen weichen wir hier 
 vom üblichen Freitagstermin ab.
CATEGORIES:Erwachsene &amp; Senioren,  General
URL;VALUE=URI:https://fbs-nk.de/mc-events/symbole-und-chiffren-der-rechten-
 szene/
METHOD:PUBLISH
END:VEVENT
END:VCALENDAR