BEGIN:VCALENDAR
VERSION:2.0
PRODID:spatie/icalendar-generator
DESCRIPTION:Veranstaltungen von Katholische Familienbildungsstätte Neunkir
 chen
X-WR-CALDESC:Veranstaltungen von Katholische Familienbildungsstätte Neunki
 rchen
REFRESH-INTERVAL;VALUE=DURATION:PT1440M
X-PUBLISHED-TTL:PT1440M
BEGIN:VTIMEZONE
TZID:Europe/Berlin
BEGIN:DAYLIGHT
DTSTART:20250330T020000Z
TZOFFSETFROM:+0100
TZOFFSETTO:+0200
END:DAYLIGHT
BEGIN:STANDARD
DTSTART:20251026T030000Z
TZOFFSETFROM:+0200
TZOFFSETTO:+0100
END:STANDARD
END:VTIMEZONE
BEGIN:VTIMEZONE
TZID:UTC
BEGIN:STANDARD
DTSTART:20250728T145016Z
TZOFFSETFROM:+0000
TZOFFSETTO:+0000
END:STANDARD
END:VTIMEZONE
BEGIN:VEVENT
UID:3573-295
DTSTAMP:20260424T145016Z
SUMMARY:Nähen am Mittwochnachmittag
LOCATION:Katholische Familienbildungsstätte Neunkirchen e.V. Wellesweilers
 traße 100  Neunkirchen  66538
ORGANIZER;CN=Anne Schmidt:MAILTO:kathfbs@aol.com
RRULE:FREQ=WEEKLY;UNTIL=20260624T000000Z
DTSTART;TZID=Europe/Berlin:20250820T150000
DTEND;TZID=Europe/Berlin:20250820T180000
X-ALT-DESC;FMTTYPE=TEXT/HTML:Mit Silke Heidrich werden schöne Textilien un
 ter Anleitung selbst genäht. Nähmaschinen sind vor Ort reichlich vorhand
 en. Hier sind Jung und Alt\, Männlein\, Weiblein und divers herzlich will
 kommen. Warum nicht ein neues Hobby\, das soviel Freude macht erlernen? Es
  sind keine Vorkenntnisse erforderlich.   Kosten: 90 Euro für 10 Termin
 e. &amp;nbsp\;
CATEGORIES:Erwachsene &amp; Senioren,  General
URL;VALUE=URI:https://fbs-nk.de/mc-events/naehen-am-mittwochnachmittag/?mc_
 id=3573
METHOD:PUBLISH
END:VEVENT
END:VCALENDAR