BEGIN:VCALENDAR
VERSION:2.0
PRODID:spatie/icalendar-generator
DESCRIPTION:Veranstaltungen von Katholische Familienbildungsstätte Neunkir
 chen
X-WR-CALDESC:Veranstaltungen von Katholische Familienbildungsstätte Neunki
 rchen
REFRESH-INTERVAL;VALUE=DURATION:PT1440M
X-PUBLISHED-TTL:PT1440M
BEGIN:VTIMEZONE
TZID:Europe/Berlin
BEGIN:STANDARD
DTSTART:20251026T030000Z
TZOFFSETFROM:+0200
TZOFFSETTO:+0100
END:STANDARD
BEGIN:DAYLIGHT
DTSTART:20260329T020000Z
TZOFFSETFROM:+0100
TZOFFSETTO:+0200
END:DAYLIGHT
END:VTIMEZONE
BEGIN:VTIMEZONE
TZID:UTC
BEGIN:STANDARD
DTSTART:20250725T224544Z
TZOFFSETFROM:+0000
TZOFFSETTO:+0000
END:STANDARD
END:VTIMEZONE
BEGIN:VEVENT
UID:4641-308
DTSTAMP:20260421T224544Z
SUMMARY:TTouch for You am 7. und 8. Februar 2026
LOCATION:Katholische Familienbildungsstätte Neunkirchen e.V. Wellesweilers
 traße 100  Neunkirchen  66538
ORGANIZER;CN=Anne Schmidt:MAILTO:kathfbs@aol.com
RRULE:FREQ=DAILY;UNTIL=20260208T000000Z
DTSTART;TZID=Europe/Berlin:20260207T133000
DTEND;TZID=Europe/Berlin:20260207T193000
X-ALT-DESC;FMTTYPE=TEXT/HTML:TTouch bietet effektive Möglichkeiten Stress 
 zu reduzieren\, Panik-Attacken zu managen\, Schmerzen zu reduzieren und di
 e Lebensqualität zu verbessern. TTouch verhilft Erwachsenen und Kindern z
 u verbesserter Konzentrationsfähigkeit. Der 2-tägige Kurs vermittelt die
  Grundlagen des TTouch und Techniken\, die leicht in den Alltag integriert
  werden können. TTouch ist geeignet für jedes Alter\, Vorkenntnisse sind
  nicht erforderlich. Die&amp;hellip\;
CATEGORIES:Erwachsene &amp; Senioren,  General
URL;VALUE=URI:https://fbs-nk.de/mc-events/ttouch-for-you-am-7-und-8-februar
 -2026/?mc_id=4641
METHOD:PUBLISH
END:VEVENT
END:VCALENDAR