BEGIN:VCALENDAR
VERSION:2.0
PRODID:spatie/icalendar-generator
DESCRIPTION:Veranstaltungen von Katholische Familienbildungsstätte Neunkir
 chen
X-WR-CALDESC:Veranstaltungen von Katholische Familienbildungsstätte Neunki
 rchen
REFRESH-INTERVAL;VALUE=DURATION:PT1440M
X-PUBLISHED-TTL:PT1440M
BEGIN:VTIMEZONE
TZID:Europe/Berlin
BEGIN:DAYLIGHT
DTSTART:20250330T020000Z
TZOFFSETFROM:+0100
TZOFFSETTO:+0200
END:DAYLIGHT
BEGIN:STANDARD
DTSTART:20251026T030000Z
TZOFFSETFROM:+0200
TZOFFSETTO:+0100
END:STANDARD
BEGIN:DAYLIGHT
DTSTART:20260329T020000Z
TZOFFSETFROM:+0100
TZOFFSETTO:+0200
END:DAYLIGHT
END:VTIMEZONE
BEGIN:VTIMEZONE
TZID:UTC
BEGIN:STANDARD
DTSTART:20250723T160121Z
TZOFFSETFROM:+0000
TZOFFSETTO:+0000
END:STANDARD
END:VTIMEZONE
BEGIN:VEVENT
UID:4652-361
DTSTAMP:20260419T160121Z
SUMMARY:Die rechte Szene im Wandel
LOCATION:Katholische Familienbildungsstätte Neunkirchen e.V. Wellesweilers
 traße 100  Neunkirchen  66538
ORGANIZER;CN=Anne Schmidt:MAILTO:kathfbs@aol.com
DTSTART;TZID=Europe/Berlin:20251111T180000
DTEND;TZID=Europe/Berlin:20251111T193000
X-ALT-DESC;FMTTYPE=TEXT/HTML:Sebastian Drumm\, Mitarbeiter der Kontaktstell
 e Holler in Kusel\, berichtet in diesem Vortrag\, der sich insbesondere an
  Eltern\, Jugendliche und Erziehende richtet\, wie sich rechtsradikaler 
 „Lifestyle“ heute\, jenseits von Glatzen\, Bomberjacken und Springerst
 iefeln äußert und wie sich diese Szene immer mehr gesellschaftlich etabl
 iert. Bitte Tag und Uhrzeit beachten!
CATEGORIES:Erwachsene &amp; Senioren,  Eltern &amp; Kinder,  General,  Kinder &amp; Jug
 endliche
URL;VALUE=URI:https://fbs-nk.de/mc-events/die-rechte-szene-im-wandel/
METHOD:PUBLISH
END:VEVENT
END:VCALENDAR