BEGIN:VCALENDAR
VERSION:2.0
PRODID:spatie/icalendar-generator
DESCRIPTION:Veranstaltungen von Katholische Familienbildungsstätte Neunkir
 chen
X-WR-CALDESC:Veranstaltungen von Katholische Familienbildungsstätte Neunki
 rchen
REFRESH-INTERVAL;VALUE=DURATION:PT1440M
X-PUBLISHED-TTL:PT1440M
BEGIN:VTIMEZONE
TZID:Europe/Berlin
BEGIN:STANDARD
DTSTART:20251026T030000Z
TZOFFSETFROM:+0200
TZOFFSETTO:+0100
END:STANDARD
BEGIN:DAYLIGHT
DTSTART:20260329T020000Z
TZOFFSETFROM:+0100
TZOFFSETTO:+0200
END:DAYLIGHT
BEGIN:STANDARD
DTSTART:20261025T030000Z
TZOFFSETFROM:+0200
TZOFFSETTO:+0100
END:STANDARD
END:VTIMEZONE
BEGIN:VTIMEZONE
TZID:UTC
BEGIN:STANDARD
DTSTART:20250727T105058Z
TZOFFSETFROM:+0000
TZOFFSETTO:+0000
END:STANDARD
END:VTIMEZONE
BEGIN:VEVENT
UID:4653-233
DTSTAMP:20260423T105058Z
SUMMARY:Yoga für die Füße am Muttertag
LOCATION:Katholische Familienbildungsstätte Neunkirchen e.V. Wellesweilers
 traße 100  Neunkirchen  66538
ORGANIZER;CN=Anne Schmidt:MAILTO:kathfbs@aol.com
DTSTART;TZID=Europe/Berlin:20260510T090000
DTEND;TZID=Europe/Berlin:20260510T110000
X-ALT-DESC;FMTTYPE=TEXT/HTML:Unsere Füße sorgen für unsere Haltung\, fü
 r Stabilität und Beweglichkeit. Sie tragen uns jeden Tag. Aber wie sorgen
  wir für unsere Füße? An diesem Morgen werden sie mit Yoga-Übungen\, 
 einem Barfußpfad und Ölmassage verwöhnt. Ein Erlebnis für Mütter und 
 Töchter\, eine gute Geschenkidee zum Muttertag\, damit uns unsere Füße 
 weiter gut durchs Leben tragen. Gebühr: 37&amp;hellip\;
CATEGORIES:Erwachsene &amp; Senioren,  General
URL;VALUE=URI:https://fbs-nk.de/mc-events/yoga-fuer-die-fuesse-am-muttertag
 /
METHOD:PUBLISH
END:VEVENT
END:VCALENDAR