BEGIN:VCALENDAR
VERSION:2.0
PRODID:spatie/icalendar-generator
DESCRIPTION:Veranstaltungen von Katholische Familienbildungsstätte Neunkir
 chen
X-WR-CALDESC:Veranstaltungen von Katholische Familienbildungsstätte Neunki
 rchen
REFRESH-INTERVAL;VALUE=DURATION:PT1440M
X-PUBLISHED-TTL:PT1440M
BEGIN:VTIMEZONE
TZID:Europe/Berlin
BEGIN:DAYLIGHT
DTSTART:20250330T020000Z
TZOFFSETFROM:+0100
TZOFFSETTO:+0200
END:DAYLIGHT
BEGIN:STANDARD
DTSTART:20251026T030000Z
TZOFFSETFROM:+0200
TZOFFSETTO:+0100
END:STANDARD
END:VTIMEZONE
BEGIN:VTIMEZONE
TZID:UTC
BEGIN:STANDARD
DTSTART:20250729T122817Z
TZOFFSETFROM:+0000
TZOFFSETTO:+0000
END:STANDARD
END:VTIMEZONE
BEGIN:VEVENT
UID:2418-163
DTSTAMP:20260425T122817Z
SUMMARY:Von den Anfängen der Integration bis zur schulischen Inklusionsdeb
 atte im Saarland - Vortrag mit Prof. Dr. phil. habil. Werner Brill
LOCATION:Katholische Familienbildungsstätte Neunkirchen e.V. Wellesweilers
 traße 100  Neunkirchen  66538
ORGANIZER;CN=Anne Schmidt:MAILTO:kathfbs@aol.com
DTSTART;TZID=Europe/Berlin:20250919T100000
DTEND;TZID=Europe/Berlin:20250919T120000
X-ALT-DESC;FMTTYPE=TEXT/HTML:Die gemeinsame Beschulung von Kindern mit und 
 ohne Behinderung nahm ihren Anfang in den 1970er Jahren in verschiedenen e
 uropäischen Ländern\, vor allem in Skandinavien und Italien. Danach kam 
 diese Idee auch nach Deutschland\, und das Saarland war das erste Bundesla
 nd\, das dies in ein Gesetz aufnahm\, in dem es hieß\, dass grundsätzlic
 h die Beschulung behinderter&amp;hellip\;
CATEGORIES:Erwachsene &amp; Senioren,  General
URL;VALUE=URI:https://fbs-nk.de/mc-events/von-den-anfaengen-der-integration
 -bis-zur-schulischen-inklusionsdebatte-im-saarland-vortrag-mit-prof-dr-phi
 l-habil-werner-brill/
METHOD:PUBLISH
END:VEVENT
END:VCALENDAR