BEGIN:VCALENDAR
VERSION:2.0
PRODID:spatie/icalendar-generator
DESCRIPTION:Veranstaltungen von Katholische Familienbildungsstätte Neunkir
 chen
X-WR-CALDESC:Veranstaltungen von Katholische Familienbildungsstätte Neunki
 rchen
REFRESH-INTERVAL;VALUE=DURATION:PT1440M
X-PUBLISHED-TTL:PT1440M
BEGIN:VTIMEZONE
TZID:Europe/Berlin
BEGIN:STANDARD
DTSTART:20251026T030000Z
TZOFFSETFROM:+0200
TZOFFSETTO:+0100
END:STANDARD
BEGIN:DAYLIGHT
DTSTART:20260329T020000Z
TZOFFSETFROM:+0100
TZOFFSETTO:+0200
END:DAYLIGHT
END:VTIMEZONE
BEGIN:VTIMEZONE
TZID:UTC
BEGIN:STANDARD
DTSTART:20250729T194755Z
TZOFFSETFROM:+0000
TZOFFSETTO:+0000
END:STANDARD
END:VTIMEZONE
BEGIN:VEVENT
UID:2966-249
DTSTAMP:20260425T194755Z
SUMMARY:Chinas nachholende Entwicklung aus eigener Kraft
LOCATION:Katholische Familienbildungsstätte Neunkirchen e.V. Wellesweilers
 traße 100  Neunkirchen  66538
ORGANIZER;CN=Anne Schmidt:MAILTO:kathfbs@aol.com
DTSTART;TZID=Europe/Berlin:20260116T100000
DTEND;TZID=Europe/Berlin:20260116T120000
X-ALT-DESC;FMTTYPE=TEXT/HTML:Was ist Entwicklungspolitik und warum hat sie 
 fast nirgendwo funktioniert\, außer in China? In welcher Weise war das Re
 ich der Mitte sein eigener Entwicklungshelfer auf der Basis der Wirtschaft
 stheorie von Joseph Schumpeter\, der in seiner Heimat Österreich umstritt
 en war? Mit diesen Themen setzt sich der Politikwissenschaftler Edgar Wern
 er Müller  heute auseinander. Gebühr: 3 Euro
CATEGORIES:Erwachsene &amp; Senioren,  General
URL;VALUE=URI:https://fbs-nk.de/mc-events/chinas-nachholende-entwicklung-au
 s-eigener-kraft-2/
METHOD:PUBLISH
END:VEVENT
END:VCALENDAR