BEGIN:VCALENDAR
VERSION:2.0
PRODID:spatie/icalendar-generator
DESCRIPTION:Veranstaltungen von Katholische Familienbildungsstätte Neunkir
 chen
X-WR-CALDESC:Veranstaltungen von Katholische Familienbildungsstätte Neunki
 rchen
REFRESH-INTERVAL;VALUE=DURATION:PT1440M
X-PUBLISHED-TTL:PT1440M
BEGIN:VTIMEZONE
TZID:Europe/Berlin
BEGIN:STANDARD
DTSTART:20251026T030000Z
TZOFFSETFROM:+0200
TZOFFSETTO:+0100
END:STANDARD
BEGIN:DAYLIGHT
DTSTART:20260329T020000Z
TZOFFSETFROM:+0100
TZOFFSETTO:+0200
END:DAYLIGHT
BEGIN:STANDARD
DTSTART:20261025T030000Z
TZOFFSETFROM:+0200
TZOFFSETTO:+0100
END:STANDARD
END:VTIMEZONE
BEGIN:VTIMEZONE
TZID:UTC
BEGIN:STANDARD
DTSTART:20250725T183125Z
TZOFFSETFROM:+0000
TZOFFSETTO:+0000
END:STANDARD
END:VTIMEZONE
BEGIN:VEVENT
UID:3279-268
DTSTAMP:20260421T183125Z
SUMMARY:Niedrigschwelliger Deutschkurs für Zuwanderer\, für Anfänger*inn
 en
LOCATION:Katholische Familienbildungsstätte Neunkirchen e.V. Wellesweilers
 traße 100  Neunkirchen  66538
ORGANIZER;CN=Anne Schmidt:MAILTO:kathfbs@aol.com
RRULE:FREQ=WEEKLY;UNTIL=20260630T000000Z
DTSTART;TZID=Europe/Berlin:20260428T091500
DTEND;TZID=Europe/Berlin:20260428T104500
X-ALT-DESC;FMTTYPE=TEXT/HTML:Ein niedrigschwelliger Kurs für Frauen\, die 
 eingewandert sind und Deutsch lernen wollen. Alle interessierten Frauen si
 nd herzlich willkommen\, unabhängig von ihrer Religionszugehörigkeit. In
  Kooperation mit dem saarländischen Ministerium für Bildung und Kultur. 
 Ohne Kinderbetreuung. Die Leitung hat Heide Kümmel - Bäsel\, Erzieherin 
 i.R.\, Fachkraft für sprachliche Bildung\, die Teilnahme ist kostenfrei.
CATEGORIES:Erwachsene &amp; Senioren,  General
URL;VALUE=URI:https://fbs-nk.de/mc-events/niedrigschwelliger-deutschkurs-fu
 er-zuwanderer-fuer-anfaengerinnen/?mc_id=3279
METHOD:PUBLISH
END:VEVENT
END:VCALENDAR