BEGIN:VCALENDAR
VERSION:2.0
PRODID:spatie/icalendar-generator
DESCRIPTION:Veranstaltungen von Katholische Familienbildungsstätte Neunkir
 chen
X-WR-CALDESC:Veranstaltungen von Katholische Familienbildungsstätte Neunki
 rchen
REFRESH-INTERVAL;VALUE=DURATION:PT1440M
X-PUBLISHED-TTL:PT1440M
BEGIN:VTIMEZONE
TZID:Europe/Berlin
BEGIN:DAYLIGHT
DTSTART:20250330T020000Z
TZOFFSETFROM:+0100
TZOFFSETTO:+0200
END:DAYLIGHT
BEGIN:STANDARD
DTSTART:20251026T030000Z
TZOFFSETFROM:+0200
TZOFFSETTO:+0100
END:STANDARD
END:VTIMEZONE
BEGIN:VTIMEZONE
TZID:UTC
BEGIN:STANDARD
DTSTART:20250728T173053Z
TZOFFSETFROM:+0000
TZOFFSETTO:+0000
END:STANDARD
END:VTIMEZONE
BEGIN:VEVENT
UID:3464-273
DTSTAMP:20260424T173053Z
SUMMARY:Paula Modersohn-Becker\, Vortrag
LOCATION:Katholische Familienbildungsstätte Neunkirchen e.V. Wellesweilers
 traße 100  Neunkirchen  66538
ORGANIZER;CN=Anne Schmidt:MAILTO:kathfbs@aol.com
DTSTART;TZID=Europe/Berlin:20250916T180000
DTEND;TZID=Europe/Berlin:20250916T193000
X-ALT-DESC;FMTTYPE=TEXT/HTML:Mit der Expressionistin Paula Modersohn-Becker
  (1876 – 1907) startet unsere Reihe über Frauen in der bildenden Kunst.
  Ihr weiblicher Blick auf das zu Schaffende veränderte die Malerei. Im An
 schluss an den Vortrag von Dr. Ingeborg Besch kann das neue Wissen bei ein
 em Gläschen Crémant diskutiert werden. Die Teilnahmegevühr beträgt 10 
 Euro.
CATEGORIES:Erwachsene &amp; Senioren,  General
URL;VALUE=URI:https://fbs-nk.de/mc-events/paula-modersohn-becker-vortrag/
METHOD:PUBLISH
END:VEVENT
END:VCALENDAR