BEGIN:VCALENDAR
VERSION:2.0
PRODID:spatie/icalendar-generator
DESCRIPTION:Veranstaltungen von Katholische Familienbildungsstätte Neunkir
 chen
X-WR-CALDESC:Veranstaltungen von Katholische Familienbildungsstätte Neunki
 rchen
REFRESH-INTERVAL;VALUE=DURATION:PT1440M
X-PUBLISHED-TTL:PT1440M
BEGIN:VTIMEZONE
TZID:Europe/Berlin
BEGIN:STANDARD
DTSTART:20251026T030000Z
TZOFFSETFROM:+0200
TZOFFSETTO:+0100
END:STANDARD
BEGIN:DAYLIGHT
DTSTART:20260329T020000Z
TZOFFSETFROM:+0100
TZOFFSETTO:+0200
END:DAYLIGHT
BEGIN:STANDARD
DTSTART:20261025T030000Z
TZOFFSETFROM:+0200
TZOFFSETTO:+0100
END:STANDARD
END:VTIMEZONE
BEGIN:VTIMEZONE
TZID:UTC
BEGIN:STANDARD
DTSTART:20250725T011056Z
TZOFFSETFROM:+0000
TZOFFSETTO:+0000
END:STANDARD
END:VTIMEZONE
BEGIN:VEVENT
UID:4106-314
DTSTAMP:20260421T011056Z
SUMMARY:Nachbarschaftsfrühstück
LOCATION:Katholische Familienbildungsstätte Neunkirchen e.V. Wellesweilers
 traße 100  Neunkirchen  66538
ORGANIZER;CN=Anne Schmidt:MAILTO:kathfbs@aol.com
RRULE:FREQ=MONTHLY;BYDAY=3WE;UNTIL=20260617T000000Z
DTSTART;TZID=Europe/Berlin:20260520T090000
DTEND;TZID=Europe/Berlin:20260520T113000
X-ALT-DESC;FMTTYPE=TEXT/HTML:Am 3. Mittwoch im Monat laden wir herzlich ein
  zum interkulturellen Generationen-Frühstück\, für alle\, die sich für
  unsere Arbeit interessieren und mit netten Leuten aus der Nachbarschaft i
 ns Gespräch kommen wollen. Bitte anmelden\, die Platzzahl ist begrenzt!
CATEGORIES:Erwachsene &amp; Senioren,  Eltern &amp; Kinder,  General,  Kinder &amp; Jug
 endliche
URL;VALUE=URI:https://fbs-nk.de/mc-events/nachbarschaftsfruehstueck/?mc_id=
 4106
METHOD:PUBLISH
END:VEVENT
END:VCALENDAR