BEGIN:VCALENDAR
VERSION:2.0
PRODID:spatie/icalendar-generator
DESCRIPTION:Veranstaltungen von Katholische Familienbildungsstätte Neunkir
 chen
X-WR-CALDESC:Veranstaltungen von Katholische Familienbildungsstätte Neunki
 rchen
REFRESH-INTERVAL;VALUE=DURATION:PT1440M
X-PUBLISHED-TTL:PT1440M
BEGIN:VTIMEZONE
TZID:Europe/Berlin
BEGIN:STANDARD
DTSTART:20251026T030000Z
TZOFFSETFROM:+0200
TZOFFSETTO:+0100
END:STANDARD
BEGIN:DAYLIGHT
DTSTART:20260329T020000Z
TZOFFSETFROM:+0100
TZOFFSETTO:+0200
END:DAYLIGHT
END:VTIMEZONE
BEGIN:VTIMEZONE
TZID:UTC
BEGIN:STANDARD
DTSTART:20250729T194918Z
TZOFFSETFROM:+0000
TZOFFSETTO:+0000
END:STANDARD
END:VTIMEZONE
BEGIN:VEVENT
UID:4455-353
DTSTAMP:20260425T194918Z
SUMMARY:Guter Stil ist zeitlos
LOCATION:Katholische Familienbildungsstätte Neunkirchen e.V. Wellesweilers
 traße 100  Neunkirchen  66538
ORGANIZER;CN=Anne Schmidt:MAILTO:kathfbs@aol.com
DTSTART;TZID=Europe/Berlin:20260121T100000
DTEND;TZID=Europe/Berlin:20260121T113000
X-ALT-DESC;FMTTYPE=TEXT/HTML:Willst du wissen\, wie Du dich auch mit den Ja
 hren und unabhängig von deiner Konfektionsgröße stilvoll\, selbstbewuss
 t und modern kleidest? Nach der Begrüßung mit einem Gläschen Crémant z
 eigt Dir die Stilberaterin Natalja Spang an diesem Vormittag\, wie Du dein
 en persönlichen Look findest\, der dich in jedem Alter begeistert.  An d
 iesem Vormittag findet ab 9:00 Uhr&amp;hellip\;
CATEGORIES:Erwachsene &amp; Senioren,  General
URL;VALUE=URI:https://fbs-nk.de/mc-events/guter-stil-ist-zeitlos/
METHOD:PUBLISH
END:VEVENT
END:VCALENDAR